BEGIN:VCALENDAR
VERSION:2.0
PRODID:-//Lisa Caponigri - ECPv5.0.3.1//NONSGML v1.0//EN
CALSCALE:GREGORIAN
METHOD:PUBLISH
X-WR-CALNAME:Lisa Caponigri
X-ORIGINAL-URL:http://lisacaponigri.com
X-WR-CALDESC:Events for Lisa Caponigri
BEGIN:VTIMEZONE
TZID:America/New_York
BEGIN:DAYLIGHT
TZOFFSETFROM:-0500
TZOFFSETTO:-0400
TZNAME:EDT
DTSTART:20140309T070000
END:DAYLIGHT
BEGIN:STANDARD
TZOFFSETFROM:-0400
TZOFFSETTO:-0500
TZNAME:EST
DTSTART:20141102T060000
END:STANDARD
END:VTIMEZONE
BEGIN:VEVENT
DTSTART;TZID=America/New_York:20140705T080000
DTEND;TZID=America/New_York:20140705T140000
DTSTAMP:20260421T201111
CREATED:20140529T162523Z
LAST-MODIFIED:20140529T165655Z
UID:756-1404547200-1404568800@lisacaponigri.com
SUMMARY:South Haven\, MI Farmer's Market
DESCRIPTION:The South Haven\, MI market was created over 8 years ago and continues to be a vibrant\, fresh\, and exciting part of our community. Be sure to reap the benefits and pleasures of freshly picked products as well as handmade items. We are located under the pavilion in the Huron Street parking lot behind the Post Office in downtown South Haven.(546 Phoenix St.) We are open every Saturday from May 10th through October 18\, 2014 from 8am – 2pm and Wednesdays in June\, July\, August and September from 8am – 2pm. Our vendors are looking forward to rekindling with our repeat visitors and connecting with new friends. \n
URL:http://lisacaponigri.com/event/south-haven-mi-farmers-market/
LOCATION:South Haven Farmer’s Market\, 546 Phonix Street\, South Haven\, MI\, 49090\, United States
CATEGORIES:Live Appearances,Market/Festival
END:VEVENT
END:VCALENDAR