BEGIN:VCALENDAR
VERSION:2.0
PRODID:-//Lisa Caponigri - ECPv5.0.3.1//NONSGML v1.0//EN
CALSCALE:GREGORIAN
METHOD:PUBLISH
X-WR-CALNAME:Lisa Caponigri
X-ORIGINAL-URL:http://lisacaponigri.com
X-WR-CALDESC:Events for Lisa Caponigri
BEGIN:VTIMEZONE
TZID:America/New_York
BEGIN:DAYLIGHT
TZOFFSETFROM:-0500
TZOFFSETTO:-0400
TZNAME:EDT
DTSTART:20140309T070000
END:DAYLIGHT
BEGIN:STANDARD
TZOFFSETFROM:-0400
TZOFFSETTO:-0500
TZNAME:EST
DTSTART:20141102T060000
END:STANDARD
END:VTIMEZONE
BEGIN:VEVENT
DTSTART;TZID=America/New_York:20140628T080000
DTEND;TZID=America/New_York:20140628T120000
DTSTAMP:20260421T215312
CREATED:20140529T150446Z
LAST-MODIFIED:20140529T170038Z
UID:737-1403942400-1403956800@lisacaponigri.com
SUMMARY:Michigan City\, IN Uptown Farmer's Market
DESCRIPTION:The Uptown Farmers Market is located in the Uptown Arts District of Michigan City\, Indiana. Our beautiful town\, nestled on the southern shore of Lake Michigan\, is an hour from downtown Chicago and forty-five minutes from South Bend. Here in La Porte County\, at “the door” to America’s heartland\, we offer an amazing variety of seasonal produce\, flowers\, breads\, cheeses\, and meat\, along with prepared foods from local bakeries and restaurants. Located in the Uptown Arts District at the corner of 8th and Washington Streets in Michigan City\, Indiana. (Central Time) \n
URL:http://lisacaponigri.com/event/michigan-city-in-uptown-farmers-market/
LOCATION:Unnamed Venue\, 8th and Washington\, Michigan City\, IN\, 46360\, United States
CATEGORIES:Market/Festival,Live Appearances
END:VEVENT
END:VCALENDAR