BEGIN:VCALENDAR
VERSION:2.0
PRODID:-//Lisa Caponigri - ECPv5.0.3.1//NONSGML v1.0//EN
CALSCALE:GREGORIAN
METHOD:PUBLISH
X-WR-CALNAME:Lisa Caponigri
X-ORIGINAL-URL:http://lisacaponigri.com
X-WR-CALDESC:Events for Lisa Caponigri
BEGIN:VTIMEZONE
TZID:America/New_York
BEGIN:DAYLIGHT
TZOFFSETFROM:-0500
TZOFFSETTO:-0400
TZNAME:EDT
DTSTART:20140309T070000
END:DAYLIGHT
BEGIN:STANDARD
TZOFFSETFROM:-0400
TZOFFSETTO:-0500
TZNAME:EST
DTSTART:20141102T060000
END:STANDARD
END:VTIMEZONE
BEGIN:VEVENT
DTSTART;TZID=America/New_York:20140712T080000
DTEND;TZID=America/New_York:20140712T170000
DTSTAMP:20260421T170312
CREATED:20140529T152019Z
LAST-MODIFIED:20140529T170010Z
UID:741-1405152000-1405184400@lisacaponigri.com
SUMMARY:Chesterton\, IN European Farmer's Market
DESCRIPTION:Chesterton’s European Market every Saturday from the beginning of May through the end of October in historic downtown Chesterton. From 8:00 am to 2:00 pm\, visit us at Broadway and Third Street\, next to Thomas Centennial Park. We’re located two miles south of the Indiana Dunes at Lake Michigan\, and our Market is easily accessible from Interstate 94 to exit 26A or via the 80/90 Toll Road to exit 31.\nOur European Market provides a strong tradition of quality shopping\, live entertainment and a festive community experience. Our artists\, chefs\, merchants and farmers travel to our Market from across Indiana\, Michigan and Illinois to offer visitors an extraordinary collection of products and services.\nCome visit us\, and delight in our artisan breads and pastries\, boutique creamery cheeses\, ethnic foods\, meats\, spices\, oils\, rare books\, clothing\, accessories\, jewelry and fresh-from-the-farm produce and flowers. Spend the day\, and enjoy live performances from the best of Duneland’s professional musicians. (Central Time) \n
URL:http://lisacaponigri.com/event/chesterton-in-european-farmers-market/
LOCATION:Downtown Chesterton\, Broadway and 3rd Street\, Chesterton\, IN\, 46304\, United States
CATEGORIES:Market/Festival,Live Appearances
END:VEVENT
END:VCALENDAR